BEGIN:VCALENDAR
VERSION:2.0
PRODID:-//eventon.com NONSGML v1.0//EN
BEGIN:VEVENT
UID:69e8b6f08219e
DTSTAMP:20260422T035424
DTSTART:20260507T050000Z
DTEND:20260507T070000Z
TZID:Pacific/Midway
LOCATION:
SUMMARY:May 6 Real Estate Seminar
DESCRIPTION: Smart Selling: Maximizing Sales Price While Minimizing Commission Expense Join Michael Repka and Audrey Sun of The DeLeon Team for an exclusive\,  high-impact seminar on the rapidly evolving real estate landscape. In This Fast-Paced Seminar\,  You&#8217;ll Learn: The latest on the landmark case reshaping real estate commissions (spoiler alert: they[..]\nhttps://deleonrealty.com/events/may-6-real-estate-seminar/
URL:https://deleonrealty.com/events/may-6-real-estate-seminar/
END:VEVENT
END:VCALENDAR